BEGIN:VCALENDAR
VERSION:2.0
PRODID:-//Bluegrass Music Hall of Fame &amp; Museum - ECPv6.15.20//NONSGML v1.0//EN
CALSCALE:GREGORIAN
METHOD:PUBLISH
X-ORIGINAL-URL:https://www.bluegrasshall.org
X-WR-CALDESC:Events for Bluegrass Music Hall of Fame &amp; Museum
REFRESH-INTERVAL;VALUE=DURATION:PT1H
X-Robots-Tag:noindex
X-PUBLISHED-TTL:PT1H
BEGIN:VTIMEZONE
TZID:America/Chicago
BEGIN:DAYLIGHT
TZOFFSETFROM:-0600
TZOFFSETTO:-0500
TZNAME:CDT
DTSTART:20170312T080000
END:DAYLIGHT
BEGIN:STANDARD
TZOFFSETFROM:-0500
TZOFFSETTO:-0600
TZNAME:CST
DTSTART:20171105T070000
END:STANDARD
BEGIN:DAYLIGHT
TZOFFSETFROM:-0600
TZOFFSETTO:-0500
TZNAME:CDT
DTSTART:20180311T080000
END:DAYLIGHT
BEGIN:STANDARD
TZOFFSETFROM:-0500
TZOFFSETTO:-0600
TZNAME:CST
DTSTART:20181104T070000
END:STANDARD
BEGIN:DAYLIGHT
TZOFFSETFROM:-0600
TZOFFSETTO:-0500
TZNAME:CDT
DTSTART:20190310T080000
END:DAYLIGHT
BEGIN:STANDARD
TZOFFSETFROM:-0500
TZOFFSETTO:-0600
TZNAME:CST
DTSTART:20191103T070000
END:STANDARD
END:VTIMEZONE
BEGIN:VEVENT
DTSTART;TZID=America/Chicago:20181109T190000
DTEND;TZID=America/Chicago:20181109T223000
DTSTAMP:20260421T024113
CREATED:20180831T141213Z
LAST-MODIFIED:20180831T145543Z
UID:10000135-1541790000-1541802600@www.bluegrasshall.org
SUMMARY:The Infamous Stringdusters 11-9
DESCRIPTION:Join us for an evening with the Infamous Stringdusters!  This show will take place in Woodward Theatre on Friday\, November 9th\, 2018.  Doors open at 7:00 pm\, show begins at 8:00 pm.  There is no assigned seating.  All tickets are general admission\, seating is first come/first served. No refunds.  Sales tax included. \nIn a genre known for traditionalism\, the ‘Dusters have consistently covered new ground\, inspired fans\, and redefined what a bluegrass band can be. 2018 represented a high watermark for the quintet as they took home a GRAMMY® Award in the category of “Best Bluegrass Album” for their 2017 release Laws of Gravity. \nSpecial guests\, The Wooks\, open the show.  The Wooks translate the sights and sounds of the people\, hills\, bars\, roads\, and creeks around them into songs and shows that captivate. With both respect for their heritage and innovative originality\, The Wooks are the natural evolution of a sound that has always been there.
URL:https://www.bluegrasshall.org/event/the-infamous-stringdusters-11-9/
LOCATION:Bluegrass Music Hall of Fame & Museum\, 311 W 2nd St.\, Owensboro\, 42301\, USA
CATEGORIES:Concert
ATTACH;FMTTYPE=image/jpeg:https://www.bluegrasshall.org/wp-content/uploads/2018/08/992-hero.jpg
GEO:37.775241;-87.114185
X-APPLE-STRUCTURED-LOCATION;VALUE=URI;X-ADDRESS=Bluegrass Music Hall of Fame & Museum 311 W 2nd St. Owensboro 42301 USA;X-APPLE-RADIUS=500;X-TITLE=311 W 2nd St.:geo:-87.114185,37.775241
END:VEVENT
BEGIN:VEVENT
DTSTART;TZID=America/Chicago:20181103T190000
DTEND;TZID=America/Chicago:20181103T223000
DTSTAMP:20260421T024113
CREATED:20180831T141203Z
LAST-MODIFIED:20180831T145543Z
UID:10000132-1541271600-1541284200@www.bluegrasshall.org
SUMMARY:Hot Rize 11-3
DESCRIPTION:On tour for their 40th Anniversary\, Hot Rize performs in Woodward Theatre on Saturday\, November 3rd\, 2018.  \nSteeped in bluegrass tradition through long hours on the road spent listening to the genre’s giants\, Hot Rize’s music was and is equally informed by a taste for the music of Leadbelly and Freddie King\, swing\, old-time Appalachia and more in ways that mirror the broad sweep of Bill Monroe’s influences.  Their original songs are part of the bluegrass canon\, and their showmanship earned them the first ever IBMA Entertainer of the Year award. \nOn tour for their 40th Anniversary\, Hot Rize performs in Woodward Theatre on Saturday\, November 3rd\, 2018.  \nSteeped in bluegrass tradition through long hours on the road spent listening to the genre’s giants\, Hot Rize’s music was and is equally informed by a taste for the music of Leadbelly and Freddie King\, swing\, old-time Appalachia and more in ways that mirror the broad sweep of Bill Monroe’s influences.  Their original songs are part of the bluegrass canon\, and their showmanship earned them the first ever IBMA Entertainer of the Year award.
URL:https://www.bluegrasshall.org/event/hot-rize-11-3/
LOCATION:Bluegrass Music Hall of Fame & Museum\, 311 W 2nd St.\, Owensboro\, 42301\, USA
CATEGORIES:Concert
ATTACH;FMTTYPE=image/jpeg:https://www.bluegrasshall.org/wp-content/uploads/2018/08/1001-hero.jpg
GEO:37.775241;-87.114185
X-APPLE-STRUCTURED-LOCATION;VALUE=URI;X-ADDRESS=Bluegrass Music Hall of Fame & Museum 311 W 2nd St. Owensboro 42301 USA;X-APPLE-RADIUS=500;X-TITLE=311 W 2nd St.:geo:-87.114185,37.775241
END:VEVENT
BEGIN:VEVENT
DTSTART;TZID=America/Chicago:20181019T200000
DTEND;TZID=America/Chicago:20181019T220000
DTSTAMP:20260421T024113
CREATED:20181020T042036Z
LAST-MODIFIED:20181020T042036Z
UID:10000136-1539979200-1539986400@www.bluegrasshall.org
SUMMARY:Sam Bush
DESCRIPTION:If joy were a person\, he’d bring both peace and frenzy. He’d be full of music\, light\, and energy that soothes even as it stirs us up. Eyes closed\, wire-rim glasses in place\, mandolin pressed against his ribs\, joy would be Sam Bush on a stage. \n“I feel fortunate that when it’s time to play\, no matter how I feel physically or mentally\, once the downbeat starts\, my mind goes to a place that’s all music\,” says Bush. “The joy of the music comes to me and overtakes me sometimes––I just become part of the music.” \nThe Father of Newgrass and King of Telluride has long since established himself as roots royalty\, revered for both his solo and sideman work\, which includes time with Harris\, Lyle Lovett\, and Béla Fleck. But instead of kicking back and soaking up honors such as an Americana Music Association Lifetime Achievement Award and suite of Grammys and International Bluegrass Music Association trophies\, Bush still strives relentlessly to create something new. \nRaised on a farm just outside of Bowling Green\, Kentucky\, Bush grew up plowing tobacco fields in the Southern summer heat alongside his family. He started playing mandolin when he was 11 years old. “I believe growing up on a farm probably helped me channel my energy into learning music and being so interested in it\,” Bush says. “Me and my sisters\, we all loved it. I’ve often wondered if that’s because growing up on a farm\, you couldn’t go ride your bike all over town and horse around like the other kids.” \nFor Bush\, a lifetime of channeling his energy has led to stylistic innovations that have changed the course of bluegrass and roots music alike.
URL:https://www.bluegrasshall.org/event/sam-bush/
LOCATION:Bluegrass Music Hall of Fame & Museum\, 311 W 2nd St.\, Owensboro\, 42301\, USA
ATTACH;FMTTYPE=image/jpeg:https://www.bluegrasshall.org/wp-content/uploads/2018/10/1087-hero.jpg
GEO:37.775241;-87.114185
X-APPLE-STRUCTURED-LOCATION;VALUE=URI;X-ADDRESS=Bluegrass Music Hall of Fame & Museum 311 W 2nd St. Owensboro 42301 USA;X-APPLE-RADIUS=500;X-TITLE=311 W 2nd St.:geo:-87.114185,37.775241
END:VEVENT
END:VCALENDAR